BEGIN:VCALENDAR
PRODID:-//eluceo/ical//2.0/EN
VERSION:2.0
CALSCALE:GREGORIAN
BEGIN:VEVENT
UID:3a603a02bba64130efff99be398a5dba
DTSTAMP:20260419T221510Z
SUMMARY:Mitgliederversammlung (keine Gäste)
DESCRIPTION:
URL:https://rcsp.ch/fr/agenda/show/34900
DTSTART;TZID=Europe/Zurich:20131204T120000
DTEND;TZID=Europe/Zurich:20131204T120000
LOCATION:Hotel Restaurant Teufelhof
CATEGORIES:Rotary
END:VEVENT
BEGIN:VTIMEZONE
TZID:Europe/Zurich
BEGIN:STANDARD
DTSTART:20131204T120000
TZNAME:CET
TZOFFSETTO:+0100
TZOFFSETFROM:+0100
END:STANDARD
END:VTIMEZONE
END:VCALENDAR
