BEGIN:VCALENDAR
PRODID:-//eluceo/ical//2.0/EN
VERSION:2.0
CALSCALE:GREGORIAN
BEGIN:VEVENT
UID:acb134ee858983cab30d0718f8d65a37
DTSTAMP:20260419T195145Z
SUMMARY:Wie tönt die Jugend in der Basler Politik?
DESCRIPTION:Conférencier(s): Salome Hofer\, die drittjüngste Grossrätin 
 referiert über die Basler Jugend\, Hausbesetzungen und fehlende Freiräum
 e
URL:https://rcsp.ch/fr/agenda/show/34899
DTSTART;TZID=Europe/Zurich:20131127T121500
DTEND;TZID=Europe/Zurich:20131127T121500
LOCATION:Hotel Restaurant Teufelhof
CATEGORIES:Rotary
END:VEVENT
BEGIN:VTIMEZONE
TZID:Europe/Zurich
BEGIN:STANDARD
DTSTART:20131127T121500
TZNAME:CET
TZOFFSETTO:+0100
TZOFFSETFROM:+0100
END:STANDARD
END:VTIMEZONE
END:VCALENDAR
