BEGIN:VCALENDAR
PRODID:-//eluceo/ical//2.0/EN
VERSION:2.0
CALSCALE:GREGORIAN
BEGIN:VEVENT
UID:65e4c4cfb8fb36aee6e27e6c0e700a47
DTSTAMP:20260419T223124Z
SUMMARY:Plauderlunch
DESCRIPTION:
URL:https://rcsp.ch/fr/agenda/show/34895
DTSTART;TZID=Europe/Zurich:20131030T121500
DTEND;TZID=Europe/Zurich:20131030T121500
LOCATION:Hotel Restaurant Teufelhof
CATEGORIES:Rotary
END:VEVENT
BEGIN:VTIMEZONE
TZID:Europe/Zurich
BEGIN:STANDARD
DTSTART:20131030T121500
TZNAME:CET
TZOFFSETTO:+0100
TZOFFSETFROM:+0100
END:STANDARD
END:VTIMEZONE
END:VCALENDAR
