BEGIN:VCALENDAR
PRODID:-//eluceo/ical//2.0/EN
VERSION:2.0
CALSCALE:GREGORIAN
BEGIN:VEVENT
UID:74f1d7f69b532d15dea726c886d736ae
DTSTAMP:20260424T083653Z
SUMMARY:Wie tönt unsere Region in Bern? mit Nationalrat Eric Nussbaumer
DESCRIPTION:Speaker(s): Eine Stimme der NWCH in Bern\, unser Einfluss\, uns
 ere Bedeutung und unser Gewicht. Es referiert dazu\, Nationalrat Eric Nuss
 baumer 
URL:https://rcsp.ch/en/agenda/show/34894
DTSTART;TZID=Europe/Zurich:20131023T121500
DTEND;TZID=Europe/Zurich:20131023T121500
LOCATION:Hotel Restaurant Teufelhof
CATEGORIES:Rotary
END:VEVENT
BEGIN:VTIMEZONE
TZID:Europe/Zurich
BEGIN:DAYLIGHT
DTSTART:20131023T121500
TZNAME:CEST
TZOFFSETTO:+0200
TZOFFSETFROM:+0200
END:DAYLIGHT
END:VTIMEZONE
END:VCALENDAR
